BEGIN:VCALENDAR
VERSION:2.0
PRODID:-//Tukios.com/
BEGIN:VEVENT
UID:b3954445-18d4-4828-8695-f60c420df453@obituaries.serenitymeadows.com
DTSTAMP:20260421T003727Z
DTSTART:20260425T180000Z
DTEND:20260425T190000Z
SUMMARY:Graveside Service
DESCRIPTION:
URL:https://obituaries.serenitymeadows.com/obituaries/wendy-daniels
LOCATION: 6919 Providence Rd  Riverview FL 33578
GEO:27.8824055;-82.3193977
END:VEVENT
END:VCALENDAR