BEGIN:VCALENDAR
VERSION:2.0
PRODID:-//Tukios.com/
BEGIN:VEVENT
UID:404cad7f-5f47-48d4-b68f-bc3c711ccf01@obituaries.serenitymeadows.com
DTSTAMP:20260421T004114Z
DTSTART:20260425T160000Z
DTEND:20260425T174500Z
SUMMARY:Visitation
DESCRIPTION:
URL:https://obituaries.serenitymeadows.com/obituaries/wendy-daniels
LOCATION: 6919 Providence Rd  Riverview FL 33578
GEO:27.8824055;-82.3193977
END:VEVENT
END:VCALENDAR