BEGIN:VCALENDAR
VERSION:2.0
PRODID:-//Tukios.com/
BEGIN:VEVENT
UID:47724128-52dd-4f2b-b9e4-18528341ddae@obituaries.serenitymeadows.com
DTSTAMP:20260421T020213Z
DTSTART:20260502T200000Z
DTEND:20260502T210000Z
SUMMARY:Funeral Service
DESCRIPTION:
URL:https://obituaries.serenitymeadows.com/obituaries/thomas-waters-iii
LOCATION: 6919 Providence Rd  Riverview FL 33578
GEO:27.8824055;-82.3193977
END:VEVENT
END:VCALENDAR