BEGIN:VCALENDAR
VERSION:2.0
PRODID:-//Tukios.com/
BEGIN:VEVENT
UID:f3c89630-d9f1-4ff5-b9c5-a9470123499c@obituaries.serenitymeadows.com
DTSTAMP:20260421T020546Z
DTSTART:20260502T180000Z
DTEND:20260502T200000Z
SUMMARY:Visitation
DESCRIPTION:
URL:https://obituaries.serenitymeadows.com/obituaries/thomas-waters-iii
LOCATION: 6919 Providence Rd  Riverview FL 33578
GEO:27.8824055;-82.3193977
END:VEVENT
END:VCALENDAR