BEGIN:VCALENDAR
VERSION:2.0
PRODID:-//Tukios.com/
BEGIN:VEVENT
UID:0bd4d440-5f69-4625-87c6-cbc3ce263833@obituaries.serenitymeadows.com
DTSTAMP:20260424T033646Z
DTSTART:20260505T180000Z
DTEND:20260505T183000Z
SUMMARY:Graveside Service
DESCRIPTION:
URL:https://obituaries.serenitymeadows.com/obituaries/joseph-kline
LOCATION: 9810 State Road 72  Sarasota FL 34241
GEO:27.244655;-82.3811227
END:VEVENT
END:VCALENDAR