BEGIN:VCALENDAR
VERSION:2.0
PRODID:-//Tukios.com/
BEGIN:VEVENT
UID:81fd384c-72a5-4d71-953c-f0c04b1867c4@obituaries.serenitymeadows.com
DTSTAMP:20260424T033536Z
DTSTART:20260505T153000Z
DTEND:20260505T163000Z
SUMMARY:Memorial Service
DESCRIPTION:
URL:https://obituaries.serenitymeadows.com/obituaries/joseph-kline
LOCATION: 6919 Providence Rd  Riverview FL 33578
GEO:27.8824055;-82.3193977
END:VEVENT
END:VCALENDAR