BEGIN:VCALENDAR
VERSION:2.0
PRODID:-//Tukios.com/
BEGIN:VEVENT
UID:b70a10f2-2c23-4129-8031-d907d3c38f6a@obituaries.serenitymeadows.com
DTSTAMP:20260424T033812Z
DTSTART:20260505T143000Z
DTEND:20260505T153000Z
SUMMARY:Memorial Gathering
DESCRIPTION:
URL:https://obituaries.serenitymeadows.com/obituaries/joseph-kline
LOCATION: 6919 Providence Rd  Riverview FL 33578
GEO:27.8824055;-82.3193977
END:VEVENT
END:VCALENDAR