BEGIN:VCALENDAR
VERSION:2.0
PRODID:-//Tukios.com/
BEGIN:VEVENT
UID:14167d6d-cf04-4977-9e05-e41e32708ccf@obituaries.serenitymeadows.com
DTSTAMP:20260423T183328Z
DTSTART:20260429T163000Z
DTEND:20260429T173000Z
SUMMARY:Burial
DESCRIPTION:
URL:https://obituaries.serenitymeadows.com/obituaries/jose-molina
LOCATION: 9810 State Road 72  Sarasota FL 34241
GEO:27.244655;-82.3811227
END:VEVENT
END:VCALENDAR