BEGIN:VCALENDAR
VERSION:2.0
PRODID:-//Tukios.com/
BEGIN:VEVENT
UID:2a056c44-dd33-4bb9-b519-367a9b7a943b@obituaries.serenitymeadows.com
DTSTAMP:20260423T183314Z
DTSTART:20260428T230000Z
DTEND:20260428T234500Z
SUMMARY:Visitation
DESCRIPTION:
URL:https://obituaries.serenitymeadows.com/obituaries/jose-molina
LOCATION: 6919 Providence Rd  Riverview FL 33578
GEO:27.8824055;-82.3193977
END:VEVENT
END:VCALENDAR