BEGIN:VCALENDAR
VERSION:2.0
PRODID:-//Tukios.com/
BEGIN:VEVENT
UID:faa390cd-f9d8-4693-a4a3-f5de1325b39c@obituaries.serenitymeadows.com
DTSTAMP:20260420T213952Z
DTSTART:20260424T170000Z
DTEND:20260424T180000Z
SUMMARY:Graveside Service
DESCRIPTION:
URL:https://obituaries.serenitymeadows.com/obituaries/aaron-clawson
LOCATION: 6502 SW 102nd Ave  Bushnell FL 33513
GEO:28.6057101;-82.2101502
END:VEVENT
END:VCALENDAR