BEGIN:VCALENDAR
VERSION:2.0
PRODID:-//Tukios.com/
BEGIN:VEVENT
UID:a6bc3454-407b-447a-96fe-d080b1f182f8@obituaries.serenitymeadows.com
DTSTAMP:20260420T214242Z
DTSTART:20260423T223000Z
DTEND:20260423T233000Z
SUMMARY:Funeral Service
DESCRIPTION:
URL:https://obituaries.serenitymeadows.com/obituaries/aaron-clawson
LOCATION: 6919 Providence Rd  Riverview FL 33578
GEO:27.8824055;-82.3193977
END:VEVENT
END:VCALENDAR